BEGIN:VCALENDAR
VERSION:2.0
PRODID:-//Windsor Cancer Centre Foundation - ECPv6.15.17.1//NONSGML v1.0//EN
CALSCALE:GREGORIAN
METHOD:PUBLISH
X-ORIGINAL-URL:https://windsorcancerfoundation.org
X-WR-CALDESC:Events for Windsor Cancer Centre Foundation
REFRESH-INTERVAL;VALUE=DURATION:PT1H
X-Robots-Tag:noindex
X-PUBLISHED-TTL:PT1H
BEGIN:VTIMEZONE
TZID:America/Detroit
BEGIN:DAYLIGHT
TZOFFSETFROM:-0500
TZOFFSETTO:-0400
TZNAME:EDT
DTSTART:20210314T070000
END:DAYLIGHT
BEGIN:STANDARD
TZOFFSETFROM:-0400
TZOFFSETTO:-0500
TZNAME:EST
DTSTART:20211107T060000
END:STANDARD
BEGIN:DAYLIGHT
TZOFFSETFROM:-0500
TZOFFSETTO:-0400
TZNAME:EDT
DTSTART:20220313T070000
END:DAYLIGHT
BEGIN:STANDARD
TZOFFSETFROM:-0400
TZOFFSETTO:-0500
TZNAME:EST
DTSTART:20221106T060000
END:STANDARD
BEGIN:DAYLIGHT
TZOFFSETFROM:-0500
TZOFFSETTO:-0400
TZNAME:EDT
DTSTART:20230312T070000
END:DAYLIGHT
BEGIN:STANDARD
TZOFFSETFROM:-0400
TZOFFSETTO:-0500
TZNAME:EST
DTSTART:20231105T060000
END:STANDARD
END:VTIMEZONE
BEGIN:VEVENT
DTSTART;TZID=America/Detroit:20220618T090000
DTEND;TZID=America/Detroit:20220618T190000
DTSTAMP:20260425T104527
CREATED:20220614T185145Z
LAST-MODIFIED:20220614T185145Z
UID:4720-1655542800-1655578800@windsorcancerfoundation.org
SUMMARY:4th Annual Windsor Memorial Pool Tournament
DESCRIPTION:Originally created in memory of Danny Agnolin\, Billy Handsor\, and Phil “Gov” Darlington\, the Windsor Memorial Pool Tournament is in its 4th year! \nIn Memory of: Blaine MacNeil & Greg Farnham. \nThe event “cues” off at 10 AM on Saturday the 18th with play expected all day Saturday and into Sunday. 32 teams of 3 players each will face off in a double elimination style tournament\, with winners walking away with a grand prize. \nAdditional fundraising will be happening throughout the day Saturday: door prize raffle\, 50/50\, and a pasta dinner fundraiser! Proceeds support the Windsor Cancer Centre Foundation as well as Hospice of Windsor. \nJoin us at Brews and Cues on Saturday the 18th and come out for a great time for a great cause!! \n 
URL:https://windsorcancerfoundation.org/event/4th-annual-windsor-memorial-pool-tournament/
LOCATION:Brews & Cues\, 5663 Ojibway Parkway\, LaSalle\, Ontario\, N9C 4J5\, Canada
ATTACH;FMTTYPE=image/png:https://windsorcancerfoundation.org/wp-content/uploads/2022/06/Pool-Tournament-Header-1200-px-x-800-px.png
ORGANIZER;CN="Sue Agnolin":MAILTO:sm_agnolin@hotmail.com
END:VEVENT
END:VCALENDAR