BEGIN:VCALENDAR
VERSION:2.0
PRODID:-//Windsor Cancer Centre Foundation - ECPv6.15.17.1//NONSGML v1.0//EN
CALSCALE:GREGORIAN
METHOD:PUBLISH
X-ORIGINAL-URL:https://windsorcancerfoundation.org
X-WR-CALDESC:Events for Windsor Cancer Centre Foundation
REFRESH-INTERVAL;VALUE=DURATION:PT1H
X-Robots-Tag:noindex
X-PUBLISHED-TTL:PT1H
BEGIN:VTIMEZONE
TZID:America/Detroit
BEGIN:DAYLIGHT
TZOFFSETFROM:-0500
TZOFFSETTO:-0400
TZNAME:EDT
DTSTART:20230312T070000
END:DAYLIGHT
BEGIN:STANDARD
TZOFFSETFROM:-0400
TZOFFSETTO:-0500
TZNAME:EST
DTSTART:20231105T060000
END:STANDARD
BEGIN:DAYLIGHT
TZOFFSETFROM:-0500
TZOFFSETTO:-0400
TZNAME:EDT
DTSTART:20240310T070000
END:DAYLIGHT
BEGIN:STANDARD
TZOFFSETFROM:-0400
TZOFFSETTO:-0500
TZNAME:EST
DTSTART:20241103T060000
END:STANDARD
BEGIN:DAYLIGHT
TZOFFSETFROM:-0500
TZOFFSETTO:-0400
TZNAME:EDT
DTSTART:20250309T070000
END:DAYLIGHT
BEGIN:STANDARD
TZOFFSETFROM:-0400
TZOFFSETTO:-0500
TZNAME:EST
DTSTART:20251102T060000
END:STANDARD
END:VTIMEZONE
BEGIN:VEVENT
DTSTART;VALUE=DATE:20240615
DTEND;VALUE=DATE:20240616
DTSTAMP:20260419T082451
CREATED:20240606T152150Z
LAST-MODIFIED:20240606T152150Z
UID:13763-1718409600-1718495999@windsorcancerfoundation.org
SUMMARY:Cruise 4 Comfort Poker Run
DESCRIPTION:On June 15th\, join Craig in his “Cruise 4 Comfort” ATV Poker Run across Tilbury! \nThe Run starts at 10 AM at The Scot (Service Clubs of Tilbury) on Dupuis Ave and will be taking place all throughout the day\, so keep your eyes peeled for participants of this great event! \nTo support Craig’s run\, please visit this page and make a donation today! \n 
URL:https://windsorcancerfoundation.org/event/cruise-4-comfort-poker-run/
LOCATION:Lions Club of Tilbury\, 20 Dupuis Ave\, Tilbury\, Ontario\, N0P 2L0\, Canada
ATTACH;FMTTYPE=image/png:https://windsorcancerfoundation.org/wp-content/uploads/2024/06/Craig-Poker-Run-Event-Header-1.png
END:VEVENT
BEGIN:VEVENT
DTSTART;TZID=America/Detroit:20240615T120000
DTEND;TZID=America/Detroit:20240615T160000
DTSTAMP:20260419T082451
CREATED:20240524T170540Z
LAST-MODIFIED:20240524T170540Z
UID:13649-1718452800-1718467200@windsorcancerfoundation.org
SUMMARY:Smash Your Fears Charity Car Smash
DESCRIPTION:Motor City Chrysler presents SMASH YOUR FEARS: A Charity Car Smash\, supporting the Windsor Cancer Centre Foundation! Every $5 Donation Gets You 3 Swings At A Car!\nJoin us on Saturday\, June 15th from 12 PM – 4PM at Motor City Chrysler (2300 Tecumseh Rd E). \nSafety glasses\, gloves and hard hats will be provided and must be worn while smashing. \nAll proceeds support the Windsor Cancer Centre Foundation’s Show Us Your Brave campaign. \n 
URL:https://windsorcancerfoundation.org/event/smash-your-fears-charity-car-smash/
LOCATION:Motor City Chrysler\, 2300 Tecumseh Rd E\, Windsor\, Ontario\, Canada
ATTACH;FMTTYPE=image/png:https://windsorcancerfoundation.org/wp-content/uploads/2024/05/Smash-Your-Fears.png
END:VEVENT
END:VCALENDAR