BEGIN:VCALENDAR
VERSION:2.0
PRODID:-//Windsor Cancer Centre Foundation - ECPv6.15.17.1//NONSGML v1.0//EN
CALSCALE:GREGORIAN
METHOD:PUBLISH
X-WR-CALNAME:Windsor Cancer Centre Foundation
X-ORIGINAL-URL:https://windsorcancerfoundation.org
X-WR-CALDESC:Events for Windsor Cancer Centre Foundation
REFRESH-INTERVAL;VALUE=DURATION:PT1H
X-Robots-Tag:noindex
X-PUBLISHED-TTL:PT1H
BEGIN:VTIMEZONE
TZID:America/Detroit
BEGIN:DAYLIGHT
TZOFFSETFROM:-0500
TZOFFSETTO:-0400
TZNAME:EDT
DTSTART:20230312T070000
END:DAYLIGHT
BEGIN:STANDARD
TZOFFSETFROM:-0400
TZOFFSETTO:-0500
TZNAME:EST
DTSTART:20231105T060000
END:STANDARD
BEGIN:DAYLIGHT
TZOFFSETFROM:-0500
TZOFFSETTO:-0400
TZNAME:EDT
DTSTART:20240310T070000
END:DAYLIGHT
BEGIN:STANDARD
TZOFFSETFROM:-0400
TZOFFSETTO:-0500
TZNAME:EST
DTSTART:20241103T060000
END:STANDARD
BEGIN:DAYLIGHT
TZOFFSETFROM:-0500
TZOFFSETTO:-0400
TZNAME:EDT
DTSTART:20250309T070000
END:DAYLIGHT
BEGIN:STANDARD
TZOFFSETFROM:-0400
TZOFFSETTO:-0500
TZNAME:EST
DTSTART:20251102T060000
END:STANDARD
END:VTIMEZONE
BEGIN:VEVENT
DTSTART;VALUE=DATE:20240617
DTEND;VALUE=DATE:20240618
DTSTAMP:20260419T094636
CREATED:20240611T135833Z
LAST-MODIFIED:20240611T135833Z
UID:13815-1718582400-1718668799@windsorcancerfoundation.org
SUMMARY:OG Pizza Fundraiser - June 17
DESCRIPTION:On June 17\, visit the LaSalle OG Pizza Location\, order a large pizza (or bigger!) and use the code word “BRAVE“. \nWhen you say “BRAVE”\, $5 from your order of a large pizza (or bigger!) will support the Windsor Cancer Centre Foundation’s Show Us Your Brave Campaign.  \n \n 
URL:https://windsorcancerfoundation.org/event/og-pizza-fundraiser-june-17/
ATTACH;FMTTYPE=image/png:https://windsorcancerfoundation.org/wp-content/uploads/2024/06/OG-Pizza-17.png
END:VEVENT
END:VCALENDAR