BEGIN:VCALENDAR
VERSION:2.0
PRODID:-//Windsor Cancer Centre Foundation - ECPv6.15.17.1//NONSGML v1.0//EN
CALSCALE:GREGORIAN
METHOD:PUBLISH
X-ORIGINAL-URL:https://windsorcancerfoundation.org
X-WR-CALDESC:Events for Windsor Cancer Centre Foundation
REFRESH-INTERVAL;VALUE=DURATION:PT1H
X-Robots-Tag:noindex
X-PUBLISHED-TTL:PT1H
BEGIN:VTIMEZONE
TZID:America/Detroit
BEGIN:DAYLIGHT
TZOFFSETFROM:-0500
TZOFFSETTO:-0400
TZNAME:EDT
DTSTART:20240310T070000
END:DAYLIGHT
BEGIN:STANDARD
TZOFFSETFROM:-0400
TZOFFSETTO:-0500
TZNAME:EST
DTSTART:20241103T060000
END:STANDARD
BEGIN:DAYLIGHT
TZOFFSETFROM:-0500
TZOFFSETTO:-0400
TZNAME:EDT
DTSTART:20250309T070000
END:DAYLIGHT
BEGIN:STANDARD
TZOFFSETFROM:-0400
TZOFFSETTO:-0500
TZNAME:EST
DTSTART:20251102T060000
END:STANDARD
BEGIN:DAYLIGHT
TZOFFSETFROM:-0500
TZOFFSETTO:-0400
TZNAME:EDT
DTSTART:20260308T070000
END:DAYLIGHT
BEGIN:STANDARD
TZOFFSETFROM:-0400
TZOFFSETTO:-0500
TZNAME:EST
DTSTART:20261101T060000
END:STANDARD
END:VTIMEZONE
BEGIN:VEVENT
DTSTART;VALUE=DATE:20250601
DTEND;VALUE=DATE:20250701
DTSTAMP:20260422T050723
CREATED:20250624T145404Z
LAST-MODIFIED:20250624T162419Z
UID:18265-1748736000-1751327999@windsorcancerfoundation.org
SUMMARY:Taste Of Brave with Joe Schmoe's
DESCRIPTION:For the month of June\, try one of these bold new items: Thanksgiving Spring Rolls and Nashville Dill Chicken Bites! Proceeds from the purchase of these items will support the Windsor Cancer Centre Foundation’s Show Us Your Brave campaign. Check out the flyer for all the details: 
URL:https://windsorcancerfoundation.org/event/taste-of-brave-with-joe-schmoes/
LOCATION:Joe Schmoe’s
CATEGORIES:Taste Of Brave
ATTACH;FMTTYPE=image/png:https://windsorcancerfoundation.org/wp-content/uploads/2025/06/Website-Event-Headers-1200-×-400-px-6.png
END:VEVENT
BEGIN:VEVENT
DTSTART;VALUE=DATE:20250601
DTEND;VALUE=DATE:20250701
DTSTAMP:20260422T050723
CREATED:20250624T161229Z
LAST-MODIFIED:20250624T162324Z
UID:18271-1748736000-1751327999@windsorcancerfoundation.org
SUMMARY:Taste Of Brave with Mr. Puffs
DESCRIPTION:For the month of June\, try a bold new item: Spicy Mango Puffresher! Proceeds from the purchase of this item will support the Windsor Cancer Centre Foundation’s Show Us Your Brave campaign. Check out the flyer for all the details: 
URL:https://windsorcancerfoundation.org/event/taste-of-brave-with-mr-puffs/
LOCATION:Joe Schmoe’s
CATEGORIES:Taste Of Brave
ATTACH;FMTTYPE=image/png:https://windsorcancerfoundation.org/wp-content/uploads/2025/06/Website-Event-Headers-1200-×-400-px-8.png
END:VEVENT
BEGIN:VEVENT
DTSTART;VALUE=DATE:20250615
DTEND;VALUE=DATE:20250701
DTSTAMP:20260422T050723
CREATED:20250624T144412Z
LAST-MODIFIED:20250624T162251Z
UID:18256-1749945600-1751327999@windsorcancerfoundation.org
SUMMARY:Taste Of Brave with Casa Miro
DESCRIPTION:From June 15 – 30\, try a bold new item\, the Garlic Shrimp Crepe! Proceeds from the purchase of the Garlic Shrimp Crepe supports the Windsor Cancer Centre Foundation’s Show Us Your Brave campaign. Check out the flyer for all the details: 
URL:https://windsorcancerfoundation.org/event/taste-of-brave-with-casa-miro/
LOCATION:Casa Miro
CATEGORIES:Taste Of Brave
ATTACH;FMTTYPE=image/png:https://windsorcancerfoundation.org/wp-content/uploads/2025/06/Website-Event-Headers-1200-×-400-px-5.png
END:VEVENT
BEGIN:VEVENT
DTSTART;VALUE=DATE:20250621
DTEND;VALUE=DATE:20250622
DTSTAMP:20260422T050723
CREATED:20250422T192614Z
LAST-MODIFIED:20250520T165634Z
UID:17896-1750464000-1750550399@windsorcancerfoundation.org
SUMMARY:Show Us Your Brave: Brave Day!
DESCRIPTION:On Saturday\, June 21\, Show Us Your Brave by going over the edge of one of the tallest buildings in Windsor-Essex. \nJoin us as we cheer on the 100+ individuals who will rappel down the historic CIBC Building in Downtown Windsor! \nWhen our loved ones are told ‘You Have Cancer’\, patients have no choice but to face their diagnosis. Show us Your Brave challenges you to commit to raising funds while stepping outside your comfort zone in support of cancer patients in our community. \n \nCan’t join us but still want to support the campaign? Donate to Show Us Your Brave here. \nIs a friend of yours going over the edge and you want to support their fundraising cause? Go find their fundraising page! \nWant to sign up yourself to raise $1\,500 and rappel? Go be brave & register now!
URL:https://windsorcancerfoundation.org/event/show-us-your-brave-brave-day/
LOCATION:CIBC Building\, 100 Ouellette Ave\, Windsor\, Ontario\, N9A 6T3\, Canada
ATTACH;FMTTYPE=image/png:https://windsorcancerfoundation.org/wp-content/uploads/2025/04/SUYB-Header.png
ORGANIZER;CN="Windsor Cancer Centre Foundation":MAILTO:info@windsorcancerfoundation.org
END:VEVENT
BEGIN:VEVENT
DTSTART;TZID=America/Detroit:20250621T093000
DTEND;TZID=America/Detroit:20250621T170000
DTSTAMP:20260422T050723
CREATED:20250422T182913Z
LAST-MODIFIED:20250422T182913Z
UID:17752-1750498200-1750525200@windsorcancerfoundation.org
SUMMARY:Lindsay McAfrey Memorial Golf Tournament
DESCRIPTION:Join us on the golf course for the Fourth Annual Lindsay McAfrey Memorial Golf Tournament. Gather with friends\, family\, and community members as we tee off in honour of Lindsay’s legacy\, all while raising funds for a cause close to our hearts. \nThis tournament came to be in memory of Lindsay\, who bravely faced Stage 4 cervical cancer. Though she was newer to the game\, she grew a quick love for golf. Being a very competitive woman\, she was always trying to learn and improve her game and she caught on fast! \n \nEnjoy a beautiful round of golf at Seven Lakes Championship Golf\, accompanied with 2 hole-in-one challenges\, door prizes\, giveaways\, and a delicious lunch to follow! \nAll proceeds from the tournament will be donated to the Windsor Cancer Centre Foundation. Registration and sponsorships will be opening soon.
URL:https://windsorcancerfoundation.org/event/lindsay-mcafrey-memorial-golf-tournament/
LOCATION:Seven Lakes Golf Course\, 3600 Seven Lakes Dr\, Windsor\, Ontario\, N9H 0E5\, Canada
ATTACH;FMTTYPE=image/png:https://windsorcancerfoundation.org/wp-content/uploads/2025/04/RAM-Tournament.png
ORGANIZER;CN="Dan Spada":MAILTO:lindsaymcafrey23memorial@hotmail.com
END:VEVENT
END:VCALENDAR