BEGIN:VCALENDAR
VERSION:2.0
PRODID:-//Windsor Cancer Centre Foundation - ECPv6.15.17.1//NONSGML v1.0//EN
CALSCALE:GREGORIAN
METHOD:PUBLISH
X-WR-CALNAME:Windsor Cancer Centre Foundation
X-ORIGINAL-URL:https://windsorcancerfoundation.org
X-WR-CALDESC:Events for Windsor Cancer Centre Foundation
REFRESH-INTERVAL;VALUE=DURATION:PT1H
X-Robots-Tag:noindex
X-PUBLISHED-TTL:PT1H
BEGIN:VTIMEZONE
TZID:America/Detroit
BEGIN:DAYLIGHT
TZOFFSETFROM:-0500
TZOFFSETTO:-0400
TZNAME:EDT
DTSTART:20210314T070000
END:DAYLIGHT
BEGIN:STANDARD
TZOFFSETFROM:-0400
TZOFFSETTO:-0500
TZNAME:EST
DTSTART:20211107T060000
END:STANDARD
BEGIN:DAYLIGHT
TZOFFSETFROM:-0500
TZOFFSETTO:-0400
TZNAME:EDT
DTSTART:20220313T070000
END:DAYLIGHT
BEGIN:STANDARD
TZOFFSETFROM:-0400
TZOFFSETTO:-0500
TZNAME:EST
DTSTART:20221106T060000
END:STANDARD
BEGIN:DAYLIGHT
TZOFFSETFROM:-0500
TZOFFSETTO:-0400
TZNAME:EDT
DTSTART:20230312T070000
END:DAYLIGHT
BEGIN:STANDARD
TZOFFSETFROM:-0400
TZOFFSETTO:-0500
TZNAME:EST
DTSTART:20231105T060000
END:STANDARD
END:VTIMEZONE
BEGIN:VEVENT
DTSTART;TZID=America/Detroit:20220529T120000
DTEND;TZID=America/Detroit:20220529T140000
DTSTAMP:20260419T200959
CREATED:20220512T002635Z
LAST-MODIFIED:20220512T002805Z
UID:4376-1653825600-1653832800@windsorcancerfoundation.org
SUMMARY:Lock Out Cancer Ceremony
DESCRIPTION:On Sunday\, May 29th we will celebrate our Ambassadors – their stories\, their friends\, their families\, their strength. \nEach of our Ambassadors\, along with their family and friends\, will attend a beautiful closed ceremony full of music and powerful speakers. They will each be presented with a padlock and will attach theirs to our Lock Out Cancer wall\, to commemorate their dedication to locking out cancer. \n \nThis ceremony is a time to celebrate\, reflect and empower women who are fighting cancer in our community. At this ceremony\, there will be a few quick notes from Houida Kassem and some of our ambassadors. For the remainder of the time\, we invite you to enjoy some live music and refreshments\, and embrace the positive vibes as many lock out cancer. \n \nOur Ambassadors this year are Dana DiCarlo Stevens\, Stephanie Giacalone\, Karma Jasey\, Ashley Sarros\, and Brooke Spitse. To read more of their stories and to donate in honor of their journeys\, please click on their name. \n \n 
URL:https://windsorcancerfoundation.org/event/lock-out-cancer-ceremony/
LOCATION:Windsor Cancer Centre\, 2220 Kildare Av.\, Windsor\, Windsor\, N8W 2X3\, Canada
ATTACH;FMTTYPE=image/jpeg:https://windsorcancerfoundation.org/wp-content/uploads/2022/04/what-we-do-bkg.jpg
ORGANIZER;CN="Windsor Cancer Centre Foundation":MAILTO:info@windsorcancerfoundation.org
END:VEVENT
BEGIN:VEVENT
DTSTART;VALUE=DATE:20220526
DTEND;VALUE=DATE:20220528
DTSTAMP:20260419T200959
CREATED:20220427T185201Z
LAST-MODIFIED:20220427T185240Z
UID:3991-1653606000-1653692399@windsorcancerfoundation.org
SUMMARY:Quesada Burrito Day
DESCRIPTION:On May 27\, 2022\, visit local a participating Quesada for Burrito Day. $1.00 from each sale supports Lock Out Cancer fundraiser for the Windsor Cancer Centre Foundation. \nNot a burrito fan but still want to donate? Participating Quesada locations will also have donation boxes supporting Lock Out Cancer for the entire month of May. \nVisit Quesada at one of four area locations: \n\n3041 Dougall Ave\n337 Ouellette Ave\n4450 Walker Rd\n500 Manning Rd
URL:https://windsorcancerfoundation.org/event/quesada-burrito-day/
LOCATION:Quesada Windsor Locations\, Various Locations\, Windsor\, Ontario
ATTACH;FMTTYPE=image/jpeg:https://windsorcancerfoundation.org/wp-content/uploads/2022/04/final-Donate-Q83.jpg
ORGANIZER;CN="Windsor Cancer Centre Foundation":MAILTO:info@windsorcancerfoundation.org
END:VEVENT
BEGIN:VEVENT
DTSTART;VALUE=DATE:20220525
DTEND;VALUE=DATE:20220527
DTSTAMP:20260419T200959
CREATED:20220512T001743Z
LAST-MODIFIED:20220512T001743Z
UID:4387-1653519600-1653605999@windsorcancerfoundation.org
SUMMARY:Last Day to Buy Raffle Tickets
DESCRIPTION:Still haven’t picked up your raffle tickets? Quick!! Ticket sales close on May 26th at 11:59 PM. Click here to purchase your tickets now! \nHere’s What You Can Win:\n\n\n\n\n\nGrand Prize: Groceries for a year valued at over $5\,000.00 \n\n\n\n\n\n2nd Prize: New BBQ Grill\, Butcher Meat\, and BBQ Accessories (total value $650) \n\n\n\n\n\n3rd Prize: $300 gift card for Zehrs Garden Centre (Malden Rd) \n\n\n\n\n\n4th Prize: Charcuterie Gift Set with beautiful wood board and $50 PC card (total value $190) \nPurchase your raffle tickets today. Limited quantity of tickets available. Proceeds support Lock Out Cancer. \nFULL CONTEST RULES CAN BE FOUND HERE
URL:https://windsorcancerfoundation.org/event/last-day-to-buy-raffle-tickets/
LOCATION:Ontario
ATTACH;FMTTYPE=image/png:https://windsorcancerfoundation.org/wp-content/uploads/2022/05/Last-Day-Raffle.png
END:VEVENT
BEGIN:VEVENT
DTSTART;TZID=America/Detroit:20220501T090000
DTEND;TZID=America/Detroit:20220501T150000
DTSTAMP:20260419T200959
CREATED:20220430T001051Z
LAST-MODIFIED:20220430T001051Z
UID:4020-1651395600-1651417200@windsorcancerfoundation.org
SUMMARY:Parker's Pop-Up Spring Market
DESCRIPTION:Visit us at Parker’s Pop-up Spring Market to purchase your Lock Out Jewelry just in time for Mother’s Day!
URL:https://windsorcancerfoundation.org/event/parkers-pop-up-spring-market/
LOCATION:Ontario
ATTACH;FMTTYPE=image/jpeg:https://windsorcancerfoundation.org/wp-content/uploads/2022/04/Parkers-Family-Farm-.jpg
END:VEVENT
BEGIN:VEVENT
DTSTART;TZID=America/Detroit:20220428T100000
DTEND;TZID=America/Detroit:20220428T120000
DTSTAMP:20260419T200959
CREATED:20220427T020310Z
LAST-MODIFIED:20220427T020310Z
UID:3938-1651140000-1651147200@windsorcancerfoundation.org
SUMMARY:Lock Out Cancer Kickoff Event
DESCRIPTION:MEDIA EVENT ONLY \nWe invite you\, members of the media community\, to attend our closed-door kickoff event to be held April 28\, 2022 at 11am. Each of our ambassadors will share their stories\, and the silver layered key charm necklace adorned with Swarovski Crystals will be unveiled. \nIn 2021\, Windsor Regional Cancer Centre saw 1\,280 women newly diagnosed with cancer. In that same timeframe\, women accounted for over 32 thousand visits to the Windsor Cancer Centre for treatment and care. \nThe Lock Out Cancer Campaign supports cancer awareness\, research and treatment for women living in our region. \n“100% of funds raised from our Lock Out Cancer campaign will remain local. This campaign funds initiatives that reduce wait times\, provides added comfort\, and helps keep more patients close to home while receiving treatment.”\, said Houida Kassem\, Executive Director of the Windsor Cancer Centre Foundation.
URL:https://windsorcancerfoundation.org/event/lock-out-cancer-kickoff-event/
LOCATION:Windsor Club\, 2072 Riverside Dr E\, Windsor\, Ontario\, N8Y 4S5\, Canada
ATTACH;FMTTYPE=image/png:https://windsorcancerfoundation.org/wp-content/uploads/2022/04/group-shot-web.png
ORGANIZER;CN="Windsor Cancer Centre Foundation":MAILTO:info@windsorcancerfoundation.org
END:VEVENT
END:VCALENDAR